Workbook

Sheet Cover Sheet

Sheet Lump Sum
A1: Lump Sum Contracts Price Variation Conditions of Engagement COE 1 & COE 2
A4: What date was your tender submitted? In format; DD/MM/YYYY
A6: Ten days before your tender submission date was: | D6: =$D$4-9 -> -9
A8: The Base Date = First Adjustment Date | D8: =DATE(YEAR($D$6)+2, MONTH($D$6)+1,DAY(1)) -> #NUM!
A10: Relevant Quarter is therefore: | D10: ="Q"&ROUNDUP(MONTH($D$8)/3,0)&"-"&YEAR($D$8) -> #NUM!
A11: Indexation Year | C11: Relevant Quarter | D11: Start Date | E11: End Date | F11: COE FAF for application
A12: First Indexation Year | B12: =YEAR((D8)) -> #NUM! | C12: =$D$10 -> #NUM! | D12: =$D$8 -> #NUM! | E12: =DATE(YEAR($D$8)+1,MONTH($D$8),DAY($D$8)-1) -> #NUM! | F12: =INDEX(Data!$A$2:$L$42,MATCH($C12,Data!$A$2:$A$42,0),MATCH($B12,Data!$A$1:$L$1,0)) -> #NUM!
A13: Second Indexation Year | B13: =$B$12+1 -> #NUM! | C13: =$D$10 -> #NUM! | D13: =DATE(YEAR($D$12)+1,MONTH($D$12),DAY($D$12)) -> #NUM! | E13: =DATE(YEAR($E$12)+1,MONTH($E$12),DAY($E$12)) -> #NUM! | F13: =INDEX(Data!$A$2:$L$42,MATCH($C13,Data!$A$2:$A$42,0),MATCH($B13,Data!$A$1:$L$1,0)) -> #NUM!
A14: Third Indexation Year | B14: =$B13+1 -> #NUM! | C14: =$D$10 -> #NUM! | D14: =DATE(YEAR($D$12)+2,MONTH($D$12),DAY($D$12)) -> #NUM! | E14: =DATE(YEAR($E$12)+2,MONTH($E$12),DAY($E$12)) -> #NUM! | F14: =INDEX(Data!$A$2:$L$42,MATCH($C14,Data!$A$2:$A$42,0),MATCH($B14,Data!$A$1:$L$1,0)) -> #NUM!
A15: Fourth Indexation Year | B15: =$B14+1 -> #NUM! | C15: =$D$10 -> #NUM! | D15: =DATE(YEAR($D$12)+3,MONTH($D$14),DAY($D$14)) -> #NUM! | E15: =DATE(YEAR($E$12)+3,MONTH($E$12),DAY($E$12)) -> #NUM! | F15: =INDEX(Data!$A$2:$L$42,MATCH($C15,Data!$A$2:$A$42,0),MATCH($B15,Data!$A$1:$L$1,0)) -> #NUM!
A16: Fifth Indexation Year | B16: =$B15+1 -> #NUM! | C16: =$D$10 -> #NUM! | D16: =DATE(YEAR($D$12)+4,MONTH($D$12),DAY($D$12)) -> #NUM! | E16: =DATE(YEAR($E$12)+4,MONTH($E$12),DAY($E$12)) -> #NUM! | F16: =INDEX(Data!$A$2:$L$42,MATCH($C16,Data!$A$2:$A$42,0),MATCH($B16,Data!$A$1:$L$1,0)) -> #NUM!
A17: Sixth Indexation Year | B17: =$B16+1 -> #NUM! | C17: =$D$10 -> #NUM! | D17: =DATE(YEAR($D$16)+1,MONTH($D$16),DAY($D$16)) -> #NUM! | E17: =DATE(YEAR($E$12)+5,MONTH($E$12),DAY($E$12)) -> #NUM! | F17: =INDEX(Data!$A$2:$L$42,MATCH($C17,Data!$A$2:$A$42,0),MATCH($B17,Data!$A$1:$L$1,0)) -> #NUM!
A18: Seventh Indexation Year | B18: =$B17+1 -> #NUM! | C18: =$D$10 -> #NUM! | D18: =DATE(YEAR($D$17)+1,MONTH($D$17),DAY($D$17)) -> #NUM! | E18: =DATE(YEAR($E$12)+6,MONTH($E$12),DAY($E$12)) -> #NUM! | F18: =INDEX(Data!$A$2:$L$42,MATCH($C18,Data!$A$2:$A$42,0),MATCH($B18,Data!$A$1:$L$1,0)) -> #NUM!
A19: Eighth Indexation Year | B19: =$B18+1 -> #NUM! | C19: =$D$10 -> #NUM! | D19: =DATE(YEAR($D$18)+1,MONTH($D$18),DAY($D$18)) -> #NUM! | E19: =DATE(YEAR($E$12)+7,MONTH($E$12),DAY($E$12)) -> #NUM! | F19: =INDEX(Data!$A$2:$L$42,MATCH($C19,Data!$A$2:$A$42,0),MATCH($B19,Data!$A$1:$L$1,0)) -> #NUM!
A20: Ninth Indexation Year | B20: =$B19+1 -> #NUM! | C20: =$D$10 -> #NUM! | D20: =DATE(YEAR($D$19)+1,MONTH($D$19),DAY($D$19)) -> #NUM! | E20: =DATE(YEAR($E$12)+8,MONTH($E$12),DAY($E$12)) -> #NUM! | F20: =INDEX(Data!$A$2:$L$42,MATCH($C20,Data!$A$2:$A$42,0),MATCH($B20,Data!$A$1:$L$1,0)) -> #NUM!
A21: Tenth Indexation Year | B21: =$B20+1 -> #NUM! | C21: =$D$10 -> #NUM! | D21: =DATE(YEAR($D$20)+1,MONTH($D$20),DAY($D$20)) -> #NUM! | E21: =DATE(YEAR($E$12)+9,MONTH($E$12),DAY($E$12)) -> #NUM! | F21: =INDEX(Data!$A$2:$L$42,MATCH($C21,Data!$A$2:$A$42,0),MATCH($B21,Data!$A$1:$L$1,0)) -> #NUM!
A22: Eleventh Indexation Year | B22: =$B21+1 -> #NUM! | C22: =$D$10 -> #NUM! | D22: =DATE(YEAR($D$21)+1,MONTH($D$21),DAY($D$21)) -> #NUM! | E22: =DATE(YEAR($E$13)+9,MONTH($E$13),DAY($E$13)) -> #NUM! | F22: =INDEX(Data!$A$2:$L$42,MATCH($C22,Data!$A$2:$A$42,0),MATCH($B22,Data!$A$1:$L$1,0)) -> #NUM!

Sheet Percentage Fee 
A1: Percentage Fee Contracts Price Variation Conditions of Engagement COE1
A4: What date was your tender submitted? In format; DD/MM/YEAR
A6: Ten days before your tender submission date was: | C6: =C4-9 -> -9
A7: The Base Date is: | C7: =DATE(YEAR($C$6)+2,MONTH($C$6)+1,DAY(1)) -> #NUM!
A9: Calculating indexation based on a Lump-sum by conversion as defined in COE Clause 9.11,12 And referred to in Form of Tender and Schedule)
A10: Percentage Fee Conversion Date In format; DD/MM/YEAR
C11: =IF(ISBLANK(C10),"",MAX(C10,C7))
A12: Only fill out if: Application of percentage to arrive at Percentage Total Fee (exceptional circumstances)* Calculating indexation based on a percentage applied as defined in COE Clause 9.7,8 (And referred to in Form of Tender and Schedule)
A13: Percentage Fee Application Date In format; DD/MM/YEAR
C14: =IF(ISBLANK(C13),"",MAX(C13,C7))
A15: * In the case of conversion to lump sum after application to Percentage Total Fee. The Percentage Fee Application Date is the only relevant date with respect to Inflation Adjustment.
A16: First Adjustment Date = | C16: {=IF($C$11="", $C$14, IF($C$14="", $C$11, n/a))}
A17: Indexation Year | C17: Relevant Quarter | D17: Start Date | E17: End Date | F17: COE FAF for application
A18: First Indexation Year | B18: =YEAR((C16)) -> #VALUE! | C18: ="Q"&ROUNDUP(MONTH($D$18)/3,0)&"-"&YEAR($C$16) -> #VALUE! | D18: =DATE(YEAR($C$16), MONTH($C$16),DAY(1)) -> #VALUE! | E18: =DATE(YEAR($D$18)+1,MONTH($D$18),DAY($D$18)-1) -> #VALUE! | F18: =INDEX(Data!$A$2:$L$42,MATCH($C18,Data!$A$2:$A$42,0),MATCH($B18,Data!$A$1:$L$1,0)) -> #VALUE!
A19: Second Indexation Year | B19: =($B18)+1 -> #VALUE! | C19: ="Q"&ROUNDUP(MONTH($D$18)/3,0)&"-"&YEAR($C$16) -> #VALUE! | D19: =DATE(YEAR($D$18)+1,MONTH($D$18),DAY($D$18)) -> #VALUE! | E19: =DATE(YEAR($E$18)+1,MONTH($E$18),DAY($E$18)) -> #VALUE! | F19: =INDEX(Data!$A$2:$L$42,MATCH($C19,Data!$A$2:$A$42,0),MATCH($B19,Data!$A$1:$L$1,0)) -> #VALUE!
A20: Third Indexation Year | B20: =($B19)+1 -> #VALUE! | C20: ="Q"&ROUNDUP(MONTH($D$18)/3,0)&"-"&YEAR($C$16) -> #VALUE! | D20: =DATE(YEAR($D$18)+2,MONTH($D$18),DAY($D$18)) -> #VALUE! | E20: =DATE(YEAR($E$18)+2,MONTH($E$18),DAY($E$18)) -> #VALUE! | F20: =INDEX(Data!$A$2:$L$42,MATCH($C20,Data!$A$2:$A$42,0),MATCH($B20,Data!$A$1:$L$1,0)) -> #VALUE!
A21: Fourth Indexation Year | B21: =($B20)+1 -> #VALUE! | C21: ="Q"&ROUNDUP(MONTH($D$18)/3,0)&"-"&YEAR($C$16) -> #VALUE! | D21: =DATE(YEAR($D$18)+3,MONTH($D$18),DAY($D$18)) -> #VALUE! | E21: =DATE(YEAR($E$18)+3,MONTH($E$18),DAY($E$18)) -> #VALUE! | F21: =INDEX(Data!$A$2:$L$42,MATCH($C21,Data!$A$2:$A$42,0),MATCH($B21,Data!$A$1:$L$1,0)) -> #VALUE!
A22: Fifth Indexation Year | B22: =($B21)+1 -> #VALUE! | C22: ="Q"&ROUNDUP(MONTH($D$18)/3,0)&"-"&YEAR($C$16) -> #VALUE! | D22: =DATE(YEAR($D$18)+4,MONTH($D$18),DAY($D$18)) -> #VALUE! | E22: =DATE(YEAR($E$18)+4,MONTH($E$18),DAY($E$18)) -> #VALUE! | F22: =INDEX(Data!$A$2:$L$42,MATCH($C22,Data!$A$2:$A$42,0),MATCH($B22,Data!$A$1:$L$1,0)) -> #VALUE!
A23: Sixth Indexation Year | B23: =($B22)+1 -> #VALUE! | C23: ="Q"&ROUNDUP(MONTH($D$18)/3,0)&"-"&YEAR($C$16) -> #VALUE! | D23: =DATE(YEAR($D$18)+5,MONTH($D$18),DAY($D$18)) -> #VALUE! | E23: =DATE(YEAR($E$18)+5,MONTH($E$18),DAY($E$18)) -> #VALUE! | F23: =INDEX(Data!$A$2:$L$42,MATCH($C23,Data!$A$2:$A$42,0),MATCH($B23,Data!$A$1:$L$1,0)) -> #VALUE!
A24: Seventh Indexation Year | B24: =($B23)+1 -> #VALUE! | C24: ="Q"&ROUNDUP(MONTH($D$18)/3,0)&"-"&YEAR($C$16) -> #VALUE! | D24: =DATE(YEAR($D$18)+6,MONTH($D$18),DAY($D$18)) -> #VALUE! | E24: =DATE(YEAR($E$18)+6,MONTH($E$18),DAY($E$18)) -> #VALUE! | F24: =INDEX(Data!$A$2:$L$42,MATCH($C24,Data!$A$2:$A$42,0),MATCH($B24,Data!$A$1:$L$1,0)) -> #VALUE!
A25: Eighth Indexation Year | B25: =($B24)+1 -> #VALUE! | C25: ="Q"&ROUNDUP(MONTH($D$18)/3,0)&"-"&YEAR($C$16) -> #VALUE! | D25: =DATE(YEAR($D$18)+7,MONTH($D$18),DAY($D$18)) -> #VALUE! | E25: =DATE(YEAR($E$18)+7,MONTH($E$18),DAY($E$18)) -> #VALUE! | F25: =INDEX(Data!$A$2:$L$42,MATCH($C25,Data!$A$2:$A$42,0),MATCH($B25,Data!$A$1:$L$1,0)) -> #VALUE!
A26: Ninth Indexation Year | B26: =($B25)+1 -> #VALUE! | C26: ="Q"&ROUNDUP(MONTH($D$18)/3,0)&"-"&YEAR($C$16) -> #VALUE! | D26: =DATE(YEAR($D$18)+8,MONTH($D$18),DAY($D$18)) -> #VALUE! | E26: =DATE(YEAR($E$18)+8,MONTH($E$18),DAY($E$18)) -> #VALUE! | F26: =INDEX(Data!$A$2:$L$42,MATCH($C26,Data!$A$2:$A$42,0),MATCH($B26,Data!$A$1:$L$1,0)) -> #VALUE!
A27: Tenth Indexation Year | B27: =($B26)+1 -> #VALUE! | C27: ="Q"&ROUNDUP(MONTH($D$18)/3,0)&"-"&YEAR($C$16) -> #VALUE! | D27: =DATE(YEAR($D$18)+9,MONTH($D$18),DAY($D$18)) -> #VALUE! | E27: =DATE(YEAR($E$18)+9,MONTH($E$18),DAY($E$18)) -> #VALUE! | F27: =INDEX(Data!$A$2:$L$42,MATCH($C27,Data!$A$2:$A$42,0),MATCH($B27,Data!$A$1:$L$1,0)) -> #VALUE!
A28: Eleventh Indexation Year | B28: =($B27)+1 -> #VALUE! | C28: ="Q"&ROUNDUP(MONTH($D$18)/3,0)&"-"&YEAR($C$16) -> #VALUE! | D28: =DATE(YEAR($D$18)+10,MONTH($D$18),DAY($D$18)) -> #VALUE! | E28: =DATE(YEAR($E$19)+9,MONTH($E$19),DAY($E$19)) -> #VALUE! | F28: =INDEX(Data!$A$2:$L$42,MATCH($C28,Data!$A$2:$A$42,0),MATCH($B28,Data!$A$1:$L$1,0)) -> #VALUE!

Sheet COE-FAF Relevant Quarter 1
A1: First Adjustment Year and Relevant Quarter | B1: COE Factor Q1 2027 | C1: COE Factor Q1 2028 | D1: COE Factor Q12029 | E1: COE Factor Q1 2030 | F1: COE Factor Q1 2031 | G1: COE Factor Q1 2032 | H1: COE Factor Q1 2033 | I1: COE Factor Q1 2034 | J1: COE Factor Q1 2035 | K1: COE Factor Q1 2036
A2: 2027 Quarter 1
A3: 2028 Quarter 1
A4: 2029 Quarter 1
A5: 2030 Quarter 1
A6: 2031 Quarter 1
A7: 2032 Quarter 1
A8: 2033 Quarter 1
A9: 2034 Quarter 1
A10: 2035 Quarter 1
A11: 2036 Quarter 1
A13: IMPORTANT NOTE | B13: Government Clients should use the COE-FAF Tool to determine the Base Date, First Adjustment Date (which indicates the Relevant Quarter )and First Adjustment Year for the Contract
B14: COE-FAF Values are applicable for the a year (Indexation Year) subsequent COE-FAF Values will be published by DPER annually.

Sheet COE-FAF Relevant Quarter 2
A1: First Adjustment Year and Relevant Quarter | B1: COE Factor Q2 2027 | C1: COE Factor Q2 2028 | D1: COE Factor Q2 2029 | E1: COE Factor Q2 2030 | F1: COE Factor Q2 2031 | G1: COE Factor Q2 2032 | H1: COE Factor Q2 2033 | I1: COE Factor Q2 2034 | J1: COE Factor Q2 2035 | K1: COE Factor Q2 2036
A2: 2027 Quarter 2
A3: 2028 Quarter 2
A4: 2029 Quarter 2
A5: 2030 Quarter 2
A6: 2031 Quarter 2
A7: 2032 Quarter 2
A8: 2033 Quarter 2
A9: 2034 Quarter 2
A10: 2035 Quarter 2
A11: 2036 Quarter 2
A13: IMPORTANT NOTE | B13: Government Clients should use the COE-FAF Tool to determine the Base Date, First Adjustment Date (which indicates the Relevant Quarter )and First Adjustment Year for the Contract
B14: COE-FAF Values are applicable for the a year (Indexation Year) subsequent COE-FAF Values will be published by DPER annually.

Sheet COE-FAF Relevant Quarter 3
A1: First Adjustment Year and Relevant Quarter | B1: COE Factor Q3 2027 | C1: COE Factor Q3 2028 | D1: COE Factor Q3 2029 | E1: COE Factor Q3 2030 | F1: COE Factor Q3 2031 | G1: COE Factor Q3 2032 | H1: COE Factor Q3 2033 | I1: COE Factor Q3 2034 | J1: COE Factor Q3 2035 | K1: COE Factor Q3 2036
A2: 2027 Quarter 3
A3: 2028 Quarter 3
A4: 2029 Quarter 3
A5: 2030 Quarter 3
A6: 2031 Quarter 3
A7: 2032 Quarter 3
A8: 2033 Quarter 3
A9: 2034 Quarter 3
A10: 2035 Quarter 3
A11: 2036 Quarter 3
A13: IMPORTANT NOTE | B13: Government Clients should use the COE-FAF Tool to determine the Base Date, First Adjustment Date (which indicates the Relevant Quarter )and First Adjustment Year for the Contract
B14: COE-FAF Values are applicable for the a year (Indexation Year) subsequent COE-FAF Values will be published by DPER annually.

Sheet COE-FAF Relevant Quarter 4
A1: First Adjustment Year and Relevant Quarter | B1: COE Factor Q4 2026 | C1: COE Factor Q4 2027 | D1: COE Factor Q4 2028 | E1: COE Factor Q4 2029 | F1: COE Factor Q4 2030 | G1: COE Factor Q4 2031 | H1: COE Factor Q4 2032 | I1: COE Factor Q4 2033 | J1: COE Factor Q4 2034 | K1: COE Factor Q4 2035 | L1: COE Factor Q4 2036
A2: 2026 Quarter 4 | B2: 1.027
A3: 2027 Quarter 4
A4: 2028 Quarter 4
A5: 2029 Quarter 4
A6: 2030 Quarter 4
A7: 2031 Quarter 4
A8: 2032 Quarter 4
A9: 2033 Quarter 4
A10: 2034 Quarter 4
A11: 2035 Quarter 4
A12: 2036 Quarter 4
A14: IMPORTANT NOTE | B14: Government Clients should use the COE-FAF Tool to determine the Base Date, First Adjustment Date (which indicates the Relevant Quarter )and First Adjustment Year for the Contract
B15: COE-FAF Values are applicable for the a year (Indexation Year) subsequent COE-FAF Values will be published by DPER annually.

Sheet Stage Tracking
A1: Stage/Sub Stage/Milestone/ | B1: Start Date Instruction | C1: Scheduled Duration (Days) | D1: Scheduled Completion Date | E1: Indexation Period Insert 'Fixed Period' or Indexation Year 1,2,3 etc. | F1: Actual Duration (Days) | G1: Actual Completion Date | H1: Actual Indexation Period Insert 'Fixed Period' or Indexation Year 1,2,3 etc. | I1: Cause(s) for Delay
A2: Populate based on particular contract

Sheet Client Changes Tracking
A1: Client Change | B1: During Stage No | C1: Reason | D1: Associated with Project Risk | E1: Fee | F1: Impact on Stage/Sub Stage/Milestone Timeline

Sheet Data
A1: Relevant Quarter | B1: 2026 | C1: 2027 | D1: 2028 | E1: 2029 | F1: 2030 | G1: 2031 | H1: 2032 | I1: 2033 | J1: 2034 | K1: 2035 | L1: 2036
A2: Q1-2027 | B2: N/A | C2: ='COE-FAF Relevant Quarter 1'!$B$2 -> 0 | D2: ='COE-FAF Relevant Quarter 1'!$C$2 -> 0 | E2: ='COE-FAF Relevant Quarter 1'!$D$2 -> 0 | F2: ='COE-FAF Relevant Quarter 1'!$E$2 -> 0 | G2: ='COE-FAF Relevant Quarter 1'!$F$2 -> 0 | H2: ='COE-FAF Relevant Quarter 1'!$G$2 -> 0 | I2: ='COE-FAF Relevant Quarter 1'!$H$2 -> 0 | J2: ='COE-FAF Relevant Quarter 1'!$I$2 -> 0 | K2: ='COE-FAF Relevant Quarter 1'!$J$2 -> 0 | L2: ='COE-FAF Relevant Quarter 1'!$K$2 -> 0
A3: Q1-2028 | B3: N/A | C3: ='COE-FAF Relevant Quarter 1'!$B$3 -> 0 | D3: ='COE-FAF Relevant Quarter 1'!$C$3 -> 0 | E3: ='COE-FAF Relevant Quarter 1'!$D$3 -> 0 | F3: ='COE-FAF Relevant Quarter 1'!$E$3 -> 0 | G3: ='COE-FAF Relevant Quarter 1'!$F$3 -> 0 | H3: ='COE-FAF Relevant Quarter 1'!$G$3 -> 0 | I3: ='COE-FAF Relevant Quarter 1'!$H$3 -> 0 | J3: ='COE-FAF Relevant Quarter 1'!$I$3 -> 0 | K3: ='COE-FAF Relevant Quarter 1'!$J$3 -> 0 | L3: ='COE-FAF Relevant Quarter 1'!$K$3 -> 0
A4: Q1-2029 | B4: N/A | C4: ='COE-FAF Relevant Quarter 1'!$B$4 -> 0 | D4: ='COE-FAF Relevant Quarter 1'!$C$4 -> 0 | E4: ='COE-FAF Relevant Quarter 1'!$D$4 -> 0 | F4: ='COE-FAF Relevant Quarter 1'!$E$4 -> 0 | G4: ='COE-FAF Relevant Quarter 1'!$F$4 -> 0 | H4: ='COE-FAF Relevant Quarter 1'!$G$4 -> 0 | I4: ='COE-FAF Relevant Quarter 1'!$H$4 -> 0 | J4: ='COE-FAF Relevant Quarter 1'!$I$4 -> 0 | K4: ='COE-FAF Relevant Quarter 1'!$J$4 -> 0 | L4: ='COE-FAF Relevant Quarter 1'!$K$4 -> 0
A5: Q1-2030 | B5: N/A | C5: ='COE-FAF Relevant Quarter 1'!$B$5 -> 0 | D5: ='COE-FAF Relevant Quarter 1'!$C$5 -> 0 | E5: ='COE-FAF Relevant Quarter 1'!$D$5 -> 0 | F5: ='COE-FAF Relevant Quarter 1'!$E$5 -> 0 | G5: ='COE-FAF Relevant Quarter 1'!$F$5 -> 0 | H5: ='COE-FAF Relevant Quarter 1'!$G$5 -> 0 | I5: ='COE-FAF Relevant Quarter 1'!$H$5 -> 0 | J5: ='COE-FAF Relevant Quarter 1'!$I$5 -> 0 | K5: ='COE-FAF Relevant Quarter 1'!$J$5 -> 0 | L5: ='COE-FAF Relevant Quarter 1'!$K$5 -> 0
A6: Q1-2031 | B6: N/A | C6: ='COE-FAF Relevant Quarter 1'!$B$6 -> 0 | D6: ='COE-FAF Relevant Quarter 1'!$C$6 -> 0 | E6: ='COE-FAF Relevant Quarter 1'!$D$6 -> 0 | F6: ='COE-FAF Relevant Quarter 1'!$E$6 -> 0 | G6: ='COE-FAF Relevant Quarter 1'!$F$6 -> 0 | H6: ='COE-FAF Relevant Quarter 1'!$G$6 -> 0 | I6: ='COE-FAF Relevant Quarter 1'!$H$6 -> 0 | J6: ='COE-FAF Relevant Quarter 1'!$I$6 -> 0 | K6: ='COE-FAF Relevant Quarter 1'!$J$6 -> 0 | L6: ='COE-FAF Relevant Quarter 1'!$K$6 -> 0
A7: Q1-2032 | B7: N/A | C7: ='COE-FAF Relevant Quarter 1'!$B$7 -> 0 | D7: ='COE-FAF Relevant Quarter 1'!$C$7 -> 0 | E7: ='COE-FAF Relevant Quarter 1'!$D$7 -> 0 | F7: ='COE-FAF Relevant Quarter 1'!$E$7 -> 0 | G7: ='COE-FAF Relevant Quarter 1'!$F$7 -> 0 | H7: ='COE-FAF Relevant Quarter 1'!$G$7 -> 0 | I7: ='COE-FAF Relevant Quarter 1'!$H$7 -> 0 | J7: ='COE-FAF Relevant Quarter 1'!$I$7 -> 0 | K7: ='COE-FAF Relevant Quarter 1'!$J$7 -> 0 | L7: ='COE-FAF Relevant Quarter 1'!$K$7 -> 0
A8: Q1-2033 | B8: N/A | C8: ='COE-FAF Relevant Quarter 1'!$B$8 -> 0 | D8: ='COE-FAF Relevant Quarter 1'!$C$8 -> 0 | E8: ='COE-FAF Relevant Quarter 1'!$D$8 -> 0 | F8: ='COE-FAF Relevant Quarter 1'!$E$8 -> 0 | G8: ='COE-FAF Relevant Quarter 1'!$F$8 -> 0 | H8: ='COE-FAF Relevant Quarter 1'!$G$8 -> 0 | I8: ='COE-FAF Relevant Quarter 1'!$H$8 -> 0 | J8: ='COE-FAF Relevant Quarter 1'!$I$8 -> 0 | K8: ='COE-FAF Relevant Quarter 1'!$J$8 -> 0 | L8: ='COE-FAF Relevant Quarter 1'!$K$8 -> 0
A9: Q1-2034 | B9: N/A | C9: ='COE-FAF Relevant Quarter 1'!$B$9 -> 0 | D9: ='COE-FAF Relevant Quarter 1'!$C$9 -> 0 | E9: ='COE-FAF Relevant Quarter 1'!$D$9 -> 0 | F9: ='COE-FAF Relevant Quarter 1'!$E$9 -> 0 | G9: ='COE-FAF Relevant Quarter 1'!$F$9 -> 0 | H9: ='COE-FAF Relevant Quarter 1'!$G$9 -> 0 | I9: ='COE-FAF Relevant Quarter 1'!$H$9 -> 0 | J9: ='COE-FAF Relevant Quarter 1'!$I$9 -> 0 | K9: ='COE-FAF Relevant Quarter 1'!$J$9 -> 0 | L9: ='COE-FAF Relevant Quarter 1'!$K$9 -> 0
A10: Q1-2035 | B10: N/A | C10: ='COE-FAF Relevant Quarter 1'!$B$10 -> 0 | D10: ='COE-FAF Relevant Quarter 1'!$C$10 -> 0 | E10: ='COE-FAF Relevant Quarter 1'!$D$10 -> 0 | F10: ='COE-FAF Relevant Quarter 1'!$E$10 -> 0 | G10: ='COE-FAF Relevant Quarter 1'!$F$10 -> 0 | H10: ='COE-FAF Relevant Quarter 1'!$G$10 -> 0 | I10: ='COE-FAF Relevant Quarter 1'!$H$10 -> 0 | J10: ='COE-FAF Relevant Quarter 1'!$I$10 -> 0 | K10: ='COE-FAF Relevant Quarter 1'!$J$10 -> 0 | L10: ='COE-FAF Relevant Quarter 1'!$K$10 -> 0
A11: Q1-2036 | B11: N/A | C11: ='COE-FAF Relevant Quarter 1'!$B$11 -> 0 | D11: ='COE-FAF Relevant Quarter 1'!$C$11 -> 0 | E11: ='COE-FAF Relevant Quarter 1'!$D$11 -> 0 | F11: ='COE-FAF Relevant Quarter 1'!$E$11 -> 0 | G11: ='COE-FAF Relevant Quarter 1'!$F$11 -> 0 | H11: ='COE-FAF Relevant Quarter 1'!$G$11 -> 0 | I11: ='COE-FAF Relevant Quarter 1'!$H$11 -> 0 | J11: ='COE-FAF Relevant Quarter 1'!$I$11 -> 0 | K11: ='COE-FAF Relevant Quarter 1'!$J$11 -> 0 | L11: ='COE-FAF Relevant Quarter 1'!$K$11 -> 0
A12: Q2-2027 | B12: N/A | C12: ='COE-FAF Relevant Quarter 2'!$B$2 -> 0 | D12: ='COE-FAF Relevant Quarter 2'!$C$2 -> 0 | E12: ='COE-FAF Relevant Quarter 2'!$D$2 -> 0 | F12: ='COE-FAF Relevant Quarter 2'!$E$2 -> 0 | G12: ='COE-FAF Relevant Quarter 2'!$F$2 -> 0 | H12: ='COE-FAF Relevant Quarter 2'!$G$2 -> 0 | I12: ='COE-FAF Relevant Quarter 2'!$H$2 -> 0 | J12: ='COE-FAF Relevant Quarter 2'!$I$2 -> 0 | K12: ='COE-FAF Relevant Quarter 2'!$J$2 -> 0 | L12: ='COE-FAF Relevant Quarter 2'!$K$2 -> 0
A13: Q2-2028 | B13: N/A | C13: ='COE-FAF Relevant Quarter 2'!$B$3 -> 0 | D13: ='COE-FAF Relevant Quarter 2'!$C$3 -> 0 | E13: ='COE-FAF Relevant Quarter 2'!$D$3 -> 0 | F13: ='COE-FAF Relevant Quarter 2'!$E$3 -> 0 | G13: ='COE-FAF Relevant Quarter 2'!$F$3 -> 0 | H13: ='COE-FAF Relevant Quarter 2'!$G$3 -> 0 | I13: ='COE-FAF Relevant Quarter 2'!$H$3 -> 0 | J13: ='COE-FAF Relevant Quarter 2'!$I$3 -> 0 | K13: ='COE-FAF Relevant Quarter 2'!$J$3 -> 0 | L13: ='COE-FAF Relevant Quarter 2'!$K$3 -> 0
A14: Q2-2029 | B14: N/A | C14: ='COE-FAF Relevant Quarter 2'!$B$4 -> 0 | D14: ='COE-FAF Relevant Quarter 2'!$C$4 -> 0 | E14: ='COE-FAF Relevant Quarter 2'!$D$4 -> 0 | F14: ='COE-FAF Relevant Quarter 2'!$E$4 -> 0 | G14: ='COE-FAF Relevant Quarter 2'!$F$4 -> 0 | H14: ='COE-FAF Relevant Quarter 2'!$G$4 -> 0 | I14: ='COE-FAF Relevant Quarter 2'!$H$4 -> 0 | J14: ='COE-FAF Relevant Quarter 2'!$I$4 -> 0 | K14: ='COE-FAF Relevant Quarter 2'!$J$4 -> 0 | L14: ='COE-FAF Relevant Quarter 2'!$K$4 -> 0
A15: Q2-2030 | B15: N/A | C15: ='COE-FAF Relevant Quarter 2'!$B$5 -> 0 | D15: ='COE-FAF Relevant Quarter 2'!$C$5 -> 0 | E15: ='COE-FAF Relevant Quarter 2'!$D$5 -> 0 | F15: ='COE-FAF Relevant Quarter 2'!$E$5 -> 0 | G15: ='COE-FAF Relevant Quarter 2'!$F$5 -> 0 | H15: ='COE-FAF Relevant Quarter 2'!$G$5 -> 0 | I15: ='COE-FAF Relevant Quarter 2'!$H$5 -> 0 | J15: ='COE-FAF Relevant Quarter 2'!$I$5 -> 0 | K15: ='COE-FAF Relevant Quarter 2'!$J$5 -> 0 | L15: ='COE-FAF Relevant Quarter 2'!$K$5 -> 0
A16: Q2-2031 | B16: N/A | C16: ='COE-FAF Relevant Quarter 2'!$B$6 -> 0 | D16: ='COE-FAF Relevant Quarter 2'!$C$6 -> 0 | E16: ='COE-FAF Relevant Quarter 2'!$D$6 -> 0 | F16: ='COE-FAF Relevant Quarter 2'!$E$6 -> 0 | G16: ='COE-FAF Relevant Quarter 2'!$F$6 -> 0 | H16: ='COE-FAF Relevant Quarter 2'!$G$6 -> 0 | I16: ='COE-FAF Relevant Quarter 2'!$H$6 -> 0 | J16: ='COE-FAF Relevant Quarter 2'!$I$6 -> 0 | K16: ='COE-FAF Relevant Quarter 2'!$J$6 -> 0 | L16: ='COE-FAF Relevant Quarter 2'!$K$6 -> 0
A17: Q2-2032 | B17: N/A | C17: ='COE-FAF Relevant Quarter 2'!$B$7 -> 0 | D17: ='COE-FAF Relevant Quarter 2'!$C$7 -> 0 | E17: ='COE-FAF Relevant Quarter 2'!$D$7 -> 0 | F17: ='COE-FAF Relevant Quarter 2'!$E$7 -> 0 | G17: ='COE-FAF Relevant Quarter 2'!$F$7 -> 0 | H17: ='COE-FAF Relevant Quarter 2'!$G$7 -> 0 | I17: ='COE-FAF Relevant Quarter 2'!$H$7 -> 0 | J17: ='COE-FAF Relevant Quarter 2'!$I$7 -> 0 | K17: ='COE-FAF Relevant Quarter 2'!$J$7 -> 0 | L17: ='COE-FAF Relevant Quarter 2'!$K$7 -> 0
A18: Q2-2033 | B18: N/A | C18: ='COE-FAF Relevant Quarter 2'!$B$8 -> 0 | D18: ='COE-FAF Relevant Quarter 2'!$C$8 -> 0 | E18: ='COE-FAF Relevant Quarter 2'!$D$8 -> 0 | F18: ='COE-FAF Relevant Quarter 2'!$E$8 -> 0 | G18: ='COE-FAF Relevant Quarter 2'!$F$8 -> 0 | H18: ='COE-FAF Relevant Quarter 2'!$G$8 -> 0 | I18: ='COE-FAF Relevant Quarter 2'!$H$8 -> 0 | J18: ='COE-FAF Relevant Quarter 2'!$I$8 -> 0 | K18: ='COE-FAF Relevant Quarter 2'!$J$8 -> 0 | L18: ='COE-FAF Relevant Quarter 2'!$K$8 -> 0
A19: Q2-2034 | B19: N/A | C19: ='COE-FAF Relevant Quarter 2'!$B$9 -> 0 | D19: ='COE-FAF Relevant Quarter 2'!$C$9 -> 0 | E19: ='COE-FAF Relevant Quarter 2'!$D$9 -> 0 | F19: ='COE-FAF Relevant Quarter 2'!$E$9 -> 0 | G19: ='COE-FAF Relevant Quarter 2'!$F$9 -> 0 | H19: ='COE-FAF Relevant Quarter 2'!$G$9 -> 0 | I19: ='COE-FAF Relevant Quarter 2'!$H$9 -> 0 | J19: ='COE-FAF Relevant Quarter 2'!$I$9 -> 0 | K19: ='COE-FAF Relevant Quarter 2'!$J$9 -> 0 | L19: ='COE-FAF Relevant Quarter 2'!$K$9 -> 0
A20: Q2-2035 | B20: N/A | C20: ='COE-FAF Relevant Quarter 2'!$B$10 -> 0 | D20: ='COE-FAF Relevant Quarter 2'!$C$10 -> 0 | E20: ='COE-FAF Relevant Quarter 2'!$D$10 -> 0 | F20: ='COE-FAF Relevant Quarter 2'!$E$10 -> 0 | G20: ='COE-FAF Relevant Quarter 2'!$F$10 -> 0 | H20: ='COE-FAF Relevant Quarter 2'!$G$10 -> 0 | I20: ='COE-FAF Relevant Quarter 2'!$H$10 -> 0 | J20: ='COE-FAF Relevant Quarter 2'!$I$10 -> 0 | K20: ='COE-FAF Relevant Quarter 2'!$J$10 -> 0 | L20: ='COE-FAF Relevant Quarter 2'!$K$10 -> 0
A21: Q2-2036 | B21: N/A | C21: ='COE-FAF Relevant Quarter 2'!$B$11 -> 0 | D21: ='COE-FAF Relevant Quarter 2'!$C$11 -> 0 | E21: ='COE-FAF Relevant Quarter 2'!$D$11 -> 0 | F21: ='COE-FAF Relevant Quarter 2'!$E$11 -> 0 | G21: ='COE-FAF Relevant Quarter 2'!$F$11 -> 0 | H21: ='COE-FAF Relevant Quarter 2'!$G$11 -> 0 | I21: ='COE-FAF Relevant Quarter 2'!$H$11 -> 0 | J21: ='COE-FAF Relevant Quarter 2'!$I$11 -> 0 | K21: ='COE-FAF Relevant Quarter 2'!$J$11 -> 0 | L21: ='COE-FAF Relevant Quarter 2'!$K$11 -> 0
A22: Q3-2027 | B22: N/A | C22: ='COE-FAF Relevant Quarter 3'!$B$2 -> 0 | D22: ='COE-FAF Relevant Quarter 3'!$C$2 -> 0 | E22: ='COE-FAF Relevant Quarter 3'!$D$2 -> 0 | F22: ='COE-FAF Relevant Quarter 3'!$E$2 -> 0 | G22: ='COE-FAF Relevant Quarter 3'!$F$2 -> 0 | H22: ='COE-FAF Relevant Quarter 3'!$G$2 -> 0 | I22: ='COE-FAF Relevant Quarter 3'!$H$2 -> 0 | J22: ='COE-FAF Relevant Quarter 3'!$I$2 -> 0 | K22: ='COE-FAF Relevant Quarter 3'!$J$2 -> 0 | L22: ='COE-FAF Relevant Quarter 3'!$K$2 -> 0
A23: Q3-2028 | B23: N/A | C23: ='COE-FAF Relevant Quarter 3'!$B$3 -> 0 | D23: ='COE-FAF Relevant Quarter 3'!$C$3 -> 0 | E23: ='COE-FAF Relevant Quarter 3'!$D$3 -> 0 | F23: ='COE-FAF Relevant Quarter 3'!$E$3 -> 0 | G23: ='COE-FAF Relevant Quarter 3'!$F$3 -> 0 | H23: ='COE-FAF Relevant Quarter 3'!$G$3 -> 0 | I23: ='COE-FAF Relevant Quarter 3'!$H$3 -> 0 | J23: ='COE-FAF Relevant Quarter 3'!$I$3 -> 0 | K23: ='COE-FAF Relevant Quarter 3'!$J$3 -> 0 | L23: ='COE-FAF Relevant Quarter 3'!$K$3 -> 0
A24: Q3-2029 | B24: N/A | C24: ='COE-FAF Relevant Quarter 3'!$B$4 -> 0 | D24: ='COE-FAF Relevant Quarter 3'!$C$4 -> 0 | E24: ='COE-FAF Relevant Quarter 3'!$D$4 -> 0 | F24: ='COE-FAF Relevant Quarter 3'!$E$4 -> 0 | G24: ='COE-FAF Relevant Quarter 3'!$F$4 -> 0 | H24: ='COE-FAF Relevant Quarter 3'!$G$4 -> 0 | I24: ='COE-FAF Relevant Quarter 3'!$H$4 -> 0 | J24: ='COE-FAF Relevant Quarter 3'!$I$4 -> 0 | K24: ='COE-FAF Relevant Quarter 3'!$J$4 -> 0 | L24: ='COE-FAF Relevant Quarter 3'!$K$4 -> 0
A25: Q3-2030 | B25: N/A | C25: ='COE-FAF Relevant Quarter 3'!$B$5 -> 0 | D25: ='COE-FAF Relevant Quarter 3'!$C$5 -> 0 | E25: ='COE-FAF Relevant Quarter 3'!$D$5 -> 0 | F25: ='COE-FAF Relevant Quarter 3'!$E$5 -> 0 | G25: ='COE-FAF Relevant Quarter 3'!$F$5 -> 0 | H25: ='COE-FAF Relevant Quarter 3'!$G$5 -> 0 | I25: ='COE-FAF Relevant Quarter 3'!$H$5 -> 0 | J25: ='COE-FAF Relevant Quarter 3'!$I$5 -> 0 | K25: ='COE-FAF Relevant Quarter 3'!$J$5 -> 0 | L25: ='COE-FAF Relevant Quarter 3'!$K$5 -> 0
A26: Q3-2031 | B26: N/A | C26: ='COE-FAF Relevant Quarter 3'!$B$6 -> 0 | D26: ='COE-FAF Relevant Quarter 3'!$C$6 -> 0 | E26: ='COE-FAF Relevant Quarter 3'!$D$6 -> 0 | F26: ='COE-FAF Relevant Quarter 3'!$E$6 -> 0 | G26: ='COE-FAF Relevant Quarter 3'!$F$6 -> 0 | H26: ='COE-FAF Relevant Quarter 3'!$G$6 -> 0 | I26: ='COE-FAF Relevant Quarter 3'!$H$6 -> 0 | J26: ='COE-FAF Relevant Quarter 3'!$I$6 -> 0 | K26: ='COE-FAF Relevant Quarter 3'!$J$6 -> 0 | L26: ='COE-FAF Relevant Quarter 3'!$K$6 -> 0
A27: Q3-2032 | B27: N/A | C27: ='COE-FAF Relevant Quarter 3'!$B$7 -> 0 | D27: ='COE-FAF Relevant Quarter 3'!$C$7 -> 0 | E27: ='COE-FAF Relevant Quarter 3'!$D$7 -> 0 | F27: ='COE-FAF Relevant Quarter 3'!$E$7 -> 0 | G27: ='COE-FAF Relevant Quarter 3'!$F$7 -> 0 | H27: ='COE-FAF Relevant Quarter 3'!$G$7 -> 0 | I27: ='COE-FAF Relevant Quarter 3'!$H$7 -> 0 | J27: ='COE-FAF Relevant Quarter 3'!$I$7 -> 0 | K27: ='COE-FAF Relevant Quarter 3'!$J$7 -> 0 | L27: ='COE-FAF Relevant Quarter 3'!$K$7 -> 0
A28: Q3-2033 | B28: N/A | C28: ='COE-FAF Relevant Quarter 3'!$B$8 -> 0 | D28: ='COE-FAF Relevant Quarter 3'!$C$8 -> 0 | E28: ='COE-FAF Relevant Quarter 3'!$D$8 -> 0 | F28: ='COE-FAF Relevant Quarter 3'!$E$8 -> 0 | G28: ='COE-FAF Relevant Quarter 3'!$F$8 -> 0 | H28: ='COE-FAF Relevant Quarter 3'!$G$8 -> 0 | I28: ='COE-FAF Relevant Quarter 3'!$H$8 -> 0 | J28: ='COE-FAF Relevant Quarter 3'!$I$8 -> 0 | K28: ='COE-FAF Relevant Quarter 3'!$J$8 -> 0 | L28: ='COE-FAF Relevant Quarter 3'!$K$8 -> 0
A29: Q3-2034 | B29: N/A | C29: ='COE-FAF Relevant Quarter 3'!$B$9 -> 0 | D29: ='COE-FAF Relevant Quarter 3'!$C$9 -> 0 | E29: ='COE-FAF Relevant Quarter 3'!$D$9 -> 0 | F29: ='COE-FAF Relevant Quarter 3'!$E$9 -> 0 | G29: ='COE-FAF Relevant Quarter 3'!$F$9 -> 0 | H29: ='COE-FAF Relevant Quarter 3'!$G$9 -> 0 | I29: ='COE-FAF Relevant Quarter 3'!$H$9 -> 0 | J29: ='COE-FAF Relevant Quarter 3'!$I$9 -> 0 | K29: ='COE-FAF Relevant Quarter 3'!$J$9 -> 0 | L29: ='COE-FAF Relevant Quarter 3'!$K$9 -> 0
A30: Q3-2035 | B30: N/A | C30: ='COE-FAF Relevant Quarter 3'!$B$10 -> 0 | D30: ='COE-FAF Relevant Quarter 3'!$C$10 -> 0 | E30: ='COE-FAF Relevant Quarter 3'!$D$10 -> 0 | F30: ='COE-FAF Relevant Quarter 3'!$E$10 -> 0 | G30: ='COE-FAF Relevant Quarter 3'!$F$10 -> 0 | H30: ='COE-FAF Relevant Quarter 3'!$G$10 -> 0 | I30: ='COE-FAF Relevant Quarter 3'!$H$10 -> 0 | J30: ='COE-FAF Relevant Quarter 3'!$I$10 -> 0 | K30: ='COE-FAF Relevant Quarter 3'!$J$10 -> 0 | L30: ='COE-FAF Relevant Quarter 3'!$K$10 -> 0
A31: Q3-2036 | B31: N/A | C31: ='COE-FAF Relevant Quarter 3'!$B$11 -> 0 | D31: ='COE-FAF Relevant Quarter 3'!$C$11 -> 0 | E31: ='COE-FAF Relevant Quarter 3'!$D$11 -> 0 | F31: ='COE-FAF Relevant Quarter 3'!$E$11 -> 0 | G31: ='COE-FAF Relevant Quarter 3'!$F$11 -> 0 | H31: ='COE-FAF Relevant Quarter 3'!$G$11 -> 0 | I31: ='COE-FAF Relevant Quarter 3'!$H$11 -> 0 | J31: ='COE-FAF Relevant Quarter 3'!$I$11 -> 0 | K31: ='COE-FAF Relevant Quarter 3'!$J$11 -> 0 | L31: ='COE-FAF Relevant Quarter 3'!$K$11 -> 0
A32: Q4-2026 | B32: ='COE-FAF Relevant Quarter 4'!$B$2 -> 1.027 | C32: ='COE-FAF Relevant Quarter 4'!$C$2 -> 0 | D32: ='COE-FAF Relevant Quarter 4'!$D$2 -> 0 | E32: ='COE-FAF Relevant Quarter 4'!$E$2 -> 0 | F32: ='COE-FAF Relevant Quarter 4'!$F$2 -> 0 | G32: ='COE-FAF Relevant Quarter 4'!$G$2 -> 0 | H32: ='COE-FAF Relevant Quarter 4'!$H$2 -> 0 | I32: ='COE-FAF Relevant Quarter 4'!$I$2 -> 0 | J32: ='COE-FAF Relevant Quarter 4'!$J$2 -> 0 | K32: ='COE-FAF Relevant Quarter 4'!$K$2 -> 0 | L32: ='COE-FAF Relevant Quarter 4'!$L$2 -> 0
A33: Q4-2027 | B33: ='COE-FAF Relevant Quarter 4'!$B$3 -> 0 | C33: ='COE-FAF Relevant Quarter 4'!$C$3 -> 0 | D33: ='COE-FAF Relevant Quarter 4'!$D$3 -> 0 | E33: ='COE-FAF Relevant Quarter 4'!$E$3 -> 0 | F33: ='COE-FAF Relevant Quarter 4'!$F$3 -> 0 | G33: ='COE-FAF Relevant Quarter 4'!$G$3 -> 0 | H33: ='COE-FAF Relevant Quarter 4'!$H$3 -> 0 | I33: ='COE-FAF Relevant Quarter 4'!$I$3 -> 0 | J33: ='COE-FAF Relevant Quarter 4'!$J$3 -> 0 | K33: ='COE-FAF Relevant Quarter 4'!$K$3 -> 0 | L33: ='COE-FAF Relevant Quarter 4'!$L$3 -> 0
A34: Q4-2028 | B34: ='COE-FAF Relevant Quarter 4'!$B$4 -> 0 | C34: ='COE-FAF Relevant Quarter 4'!$C$4 -> 0 | D34: ='COE-FAF Relevant Quarter 4'!$D$4 -> 0 | E34: ='COE-FAF Relevant Quarter 4'!$E$4 -> 0 | F34: ='COE-FAF Relevant Quarter 4'!$F$4 -> 0 | G34: ='COE-FAF Relevant Quarter 4'!$G$4 -> 0 | H34: ='COE-FAF Relevant Quarter 4'!$H$4 -> 0 | I34: ='COE-FAF Relevant Quarter 4'!$I$4 -> 0 | J34: ='COE-FAF Relevant Quarter 4'!$J$4 -> 0 | K34: ='COE-FAF Relevant Quarter 4'!$K$4 -> 0 | L34: ='COE-FAF Relevant Quarter 4'!$L$4 -> 0
A35: Q4-2029 | B35: ='COE-FAF Relevant Quarter 4'!$B$5 -> 0 | C35: ='COE-FAF Relevant Quarter 4'!$C$5 -> 0 | D35: ='COE-FAF Relevant Quarter 4'!$D$5 -> 0 | E35: ='COE-FAF Relevant Quarter 4'!$E$5 -> 0 | F35: ='COE-FAF Relevant Quarter 4'!$F$5 -> 0 | G35: ='COE-FAF Relevant Quarter 4'!$G$5 -> 0 | H35: ='COE-FAF Relevant Quarter 4'!$H$5 -> 0 | I35: ='COE-FAF Relevant Quarter 4'!$I$5 -> 0 | J35: ='COE-FAF Relevant Quarter 4'!$J$5 -> 0 | K35: ='COE-FAF Relevant Quarter 4'!$K$5 -> 0 | L35: ='COE-FAF Relevant Quarter 4'!$L$5 -> 0
A36: Q4-2030 | B36: ='COE-FAF Relevant Quarter 4'!$B$6 -> 0 | C36: ='COE-FAF Relevant Quarter 4'!$C$6 -> 0 | D36: ='COE-FAF Relevant Quarter 4'!$D$6 -> 0 | E36: ='COE-FAF Relevant Quarter 4'!$E$6 -> 0 | F36: ='COE-FAF Relevant Quarter 4'!$F$6 -> 0 | G36: ='COE-FAF Relevant Quarter 4'!$G$6 -> 0 | H36: ='COE-FAF Relevant Quarter 4'!$H$6 -> 0 | I36: ='COE-FAF Relevant Quarter 4'!$I$6 -> 0 | J36: ='COE-FAF Relevant Quarter 4'!$J$6 -> 0 | K36: ='COE-FAF Relevant Quarter 4'!$K$6 -> 0 | L36: ='COE-FAF Relevant Quarter 4'!$L$6 -> 0
A37: Q4-2031 | B37: ='COE-FAF Relevant Quarter 4'!$B$7 -> 0 | C37: ='COE-FAF Relevant Quarter 4'!$C$7 -> 0 | D37: ='COE-FAF Relevant Quarter 4'!$D$7 -> 0 | E37: ='COE-FAF Relevant Quarter 4'!$E$7 -> 0 | F37: ='COE-FAF Relevant Quarter 4'!$F$7 -> 0 | G37: ='COE-FAF Relevant Quarter 4'!$G$7 -> 0 | H37: ='COE-FAF Relevant Quarter 4'!$H$7 -> 0 | I37: ='COE-FAF Relevant Quarter 4'!$I$7 -> 0 | J37: ='COE-FAF Relevant Quarter 4'!$J$7 -> 0 | K37: ='COE-FAF Relevant Quarter 4'!$K$7 -> 0 | L37: ='COE-FAF Relevant Quarter 4'!$L$7 -> 0
A38: Q4-2032 | B38: ='COE-FAF Relevant Quarter 4'!$B$8 -> 0 | C38: ='COE-FAF Relevant Quarter 4'!$C$8 -> 0 | D38: ='COE-FAF Relevant Quarter 4'!$D$8 -> 0 | E38: ='COE-FAF Relevant Quarter 4'!$E$8 -> 0 | F38: ='COE-FAF Relevant Quarter 4'!$F$8 -> 0 | G38: ='COE-FAF Relevant Quarter 4'!$G$8 -> 0 | H38: ='COE-FAF Relevant Quarter 4'!$H$8 -> 0 | I38: ='COE-FAF Relevant Quarter 4'!$I$8 -> 0 | J38: ='COE-FAF Relevant Quarter 4'!$J$8 -> 0 | K38: ='COE-FAF Relevant Quarter 4'!$K$8 -> 0 | L38: ='COE-FAF Relevant Quarter 4'!$L$8 -> 0
A39: Q4-2033 | B39: ='COE-FAF Relevant Quarter 4'!$B$9 -> 0 | C39: ='COE-FAF Relevant Quarter 4'!$C$9 -> 0 | D39: ='COE-FAF Relevant Quarter 4'!$D$9 -> 0 | E39: ='COE-FAF Relevant Quarter 4'!$E$9 -> 0 | F39: ='COE-FAF Relevant Quarter 4'!$F$9 -> 0 | G39: ='COE-FAF Relevant Quarter 4'!$G$9 -> 0 | H39: ='COE-FAF Relevant Quarter 4'!$H$9 -> 0 | I39: ='COE-FAF Relevant Quarter 4'!$I$9 -> 0 | J39: ='COE-FAF Relevant Quarter 4'!$J$9 -> 0 | K39: ='COE-FAF Relevant Quarter 4'!$K$9 -> 0 | L39: ='COE-FAF Relevant Quarter 4'!$L$9 -> 0
A40: Q4-2034 | B40: ='COE-FAF Relevant Quarter 4'!$B$10 -> 0 | C40: ='COE-FAF Relevant Quarter 4'!$C$10 -> 0 | D40: ='COE-FAF Relevant Quarter 4'!$D$10 -> 0 | E40: ='COE-FAF Relevant Quarter 4'!$E$10 -> 0 | F40: ='COE-FAF Relevant Quarter 4'!$F$10 -> 0 | G40: ='COE-FAF Relevant Quarter 4'!$G$10 -> 0 | H40: ='COE-FAF Relevant Quarter 4'!$H$10 -> 0 | I40: ='COE-FAF Relevant Quarter 4'!$I$10 -> 0 | J40: ='COE-FAF Relevant Quarter 4'!$J$10 -> 0 | K40: ='COE-FAF Relevant Quarter 4'!$K$10 -> 0 | L40: ='COE-FAF Relevant Quarter 4'!$L$10 -> 0
A41: Q4-2035 | B41: ='COE-FAF Relevant Quarter 4'!$B$11 -> 0 | C41: ='COE-FAF Relevant Quarter 4'!$C$11 -> 0 | D41: ='COE-FAF Relevant Quarter 4'!$D$11 -> 0 | E41: ='COE-FAF Relevant Quarter 4'!$E$11 -> 0 | F41: ='COE-FAF Relevant Quarter 4'!$F$11 -> 0 | G41: ='COE-FAF Relevant Quarter 4'!$G$11 -> 0 | H41: ='COE-FAF Relevant Quarter 4'!$H$11 -> 0 | I41: ='COE-FAF Relevant Quarter 4'!$I$11 -> 0 | J41: ='COE-FAF Relevant Quarter 4'!$J$11 -> 0 | K41: ='COE-FAF Relevant Quarter 4'!$K$11 -> 0 | L41: ='COE-FAF Relevant Quarter 4'!$L$11 -> 0
A42: Q4-2036 | B42: ='COE-FAF Relevant Quarter 4'!$B$12 -> 0 | C42: ='COE-FAF Relevant Quarter 4'!$C$12 -> 0 | D42: ='COE-FAF Relevant Quarter 4'!$D$12 -> 0 | E42: ='COE-FAF Relevant Quarter 4'!$E$12 -> 0 | F42: ='COE-FAF Relevant Quarter 4'!$F$12 -> 0 | G42: ='COE-FAF Relevant Quarter 4'!$G$12 -> 0 | H42: ='COE-FAF Relevant Quarter 4'!$H$12 -> 0 | I42: ='COE-FAF Relevant Quarter 4'!$I$12 -> 0 | J42: ='COE-FAF Relevant Quarter 4'!$J$12 -> 0 | K42: ='COE-FAF Relevant Quarter 4'!$K$12 -> 0 | L42: ='COE-FAF Relevant Quarter 4'!$L$12 -> 0
